BEGIN:VCALENDAR
VERSION:2.0
PRODID:zirudela

BEGIN:VEVENT
UID:bc1bb95e2db5caabb0c7850a0fafd54f
SUMMARY:ponteradio
URL:https://www.arkiwi.org/search64/ZmlsZTpyYWRpb3Nwb3JlL1BvbnRlUmFkaW8qIEFORCBkYXRlX3RzOls3ZGF5YWdvIFRPIG5vd10gQU5EIG1lZGlhdHlwZTphdWRpbw/m3u
DTSTAMP:20250516T010000Z
DTSTART:20250516T010000Z
DTEND:20250516T030000Z
END:VEVENT

BEGIN:VEVENT
UID:1b387bc6b3759393e1ba81068369d7a5
SUMMARY:ponteradio
URL:https://www.arkiwi.org/search64/ZmlsZTpyYWRpb3Nwb3JlL1BvbnRlUmFkaW8qIEFORCBkYXRlX3RzOls3ZGF5YWdvIFRPIG5vd10gQU5EIG1lZGlhdHlwZTphdWRpbw/m3u
DTSTAMP:20250704T010000Z
DTSTART:20250704T010000Z
DTEND:20250704T023900Z
END:VEVENT

BEGIN:VEVENT
UID:a56fef44173682e0e267650d8c2c8918
SUMMARY:ponteradio
URL:https://www.arkiwi.org/search64/ZmlsZTpyYWRpb3Nwb3JlL1BvbnRlUmFkaW8qIEFORCBkYXRlX3RzOls3ZGF5YWdvIFRPIG5vd10gQU5EIG1lZGlhdHlwZTphdWRpbw/m3u
DTSTAMP:20250815T010000Z
DTSTART:20250815T010000Z
DTEND:20250815T030000Z
END:VEVENT

BEGIN:VEVENT
UID:714ed5afad25d8edabb742e1d20eab9c
SUMMARY:ponteradio
URL:https://www.arkiwi.org/search64/ZmlsZTpyYWRpb3Nwb3JlL1BvbnRlUmFkaW8qIEFORCBkYXRlX3RzOls3ZGF5YWdvIFRPIG5vd10gQU5EIG1lZGlhdHlwZTphdWRpbw/m3u
DTSTAMP:20250926T010000Z
DTSTART:20250926T010000Z
DTEND:20250926T030000Z
END:VEVENT

BEGIN:VEVENT
UID:80ff93853b66d2564d9b03f30ef7c368
SUMMARY:ponteradio
URL:https://www.arkiwi.org/search64/ZmlsZTpyYWRpb3Nwb3JlL1BvbnRlUmFkaW8qIEFORCBkYXRlX3RzOls3ZGF5YWdvIFRPIG5vd10gQU5EIG1lZGlhdHlwZTphdWRpbw/m3u
DTSTAMP:20251114T010000Z
DTSTART:20251114T010000Z
DTEND:20251114T030000Z
END:VEVENT

BEGIN:VEVENT
UID:fb441a7cfe75ce3fd2e7a348ec40325f
SUMMARY:ponteradio
URL:https://www.arkiwi.org/search64/ZmlsZTpyYWRpb3Nwb3JlL1BvbnRlUmFkaW8qIEFORCBkYXRlX3RzOls3ZGF5YWdvIFRPIG5vd10gQU5EIG1lZGlhdHlwZTphdWRpbw/m3u
DTSTAMP:20260109T010000Z
DTSTART:20260109T010000Z
DTEND:20260109T030000Z
END:VEVENT

BEGIN:VEVENT
UID:9086d27b70f7b1225715c2e73a92de2c
SUMMARY:blackout
URL:https://s.streampunk.cc/blackout.mp3
DTSTAMP:20260131T023000Z
DTSTART:20260131T023000Z
DTEND:20260131T100000Z
END:VEVENT

BEGIN:VEVENT
UID:8660d364a00bcf12ab3d1d34d3e849ff
SUMMARY:ponteradio
URL:https://www.arkiwi.org/search64/ZmlsZTpyYWRpb3Nwb3JlL1BvbnRlUmFkaW8qIEFORCBkYXRlX3RzOls3ZGF5YWdvIFRPIG5vd10gQU5EIG1lZGlhdHlwZTphdWRpbw/m3u
DTSTAMP:20260227T010000Z
DTSTART:20260227T010000Z
DTEND:20260227T030000Z
END:VEVENT

BEGIN:VEVENT
UID:4170e3108bbfa0ca783a9fdbae668c07
SUMMARY:ponteradio
URL:https://www.arkiwi.org/search64/ZmlsZTpyYWRpb3Nwb3JlL1BvbnRlUmFkaW8qIEFORCBkYXRlX3RzOls3ZGF5YWdvIFRPIG5vd10gQU5EIG1lZGlhdHlwZTphdWRpbw/m3u
DTSTAMP:20260417T010000Z
DTSTART:20260417T010000Z
DTEND:20260417T030000Z
END:VEVENT

BEGIN:VEVENT
UID:050d4d0f984d2d89274f3c609fc7b89b
SUMMARY:ponteradio
URL:https://www.arkiwi.org/search64/ZmlsZTpyYWRpb3Nwb3JlL1BvbnRlUmFkaW8qIEFORCBkYXRlX3RzOls3ZGF5YWdvIFRPIG5vd10gQU5EIG1lZGlhdHlwZTphdWRpbw/m3u
DTSTAMP:20260506T010000Z
DTSTART:20260506T010000Z
DTEND:20260506T030000Z
END:VEVENT

BEGIN:VEVENT
UID:229d06904c7ce4fd8382ffdae402f602
SUMMARY:ponteradio
URL:https://www.arkiwi.org/search64/ZmlsZTpyYWRpb3Nwb3JlL1BvbnRlUmFkaW8qIEFORCBkYXRlX3RzOls3ZGF5YWdvIFRPIG5vd10gQU5EIG1lZGlhdHlwZTphdWRpbw/m3u
DTSTAMP:20260724T010000Z
DTSTART:20260724T010000Z
DTEND:20260724T030000Z
END:VEVENT

BEGIN:VEVENT
UID:db4ff974663487a5d0f62dfd957f7712
PRIORITY:6
SUMMARY:nastrone notte
URL:http://storage.radiospore.oziosi.org:2080/playlister.php?path=/data/nastrone/notte||recursive|random||50,/data/jingle||recursive|random||2&global=interleave
DTSTAMP:20260419T120000Z
DTSTART:20260419T120000Z
DTEND:20260419T055959Z
RRULE:FREQ=DAILY
END:VEVENT

BEGIN:VEVENT
UID:ef672b7881c567b90b7fb3271071220b
PRIORITY:2
SUMMARY:echos
URL:/data/echos
DTSTAMP:20260419T123000Z
DTSTART:20260419T123000Z
DTEND:20260419T015800Z
RRULE:FREQ=DAILY
END:VEVENT

BEGIN:VEVENT
UID:aa3c749ed9b4a6b0ec4072a270f38efa
PRIORITY:2
SUMMARY:scaricomerci
URL:/data/scaricomerci
DTSTAMP:20260419T020000Z
DTSTART:20260419T020000Z
DTEND:20260419T025800Z
RRULE:FREQ=DAILY
END:VEVENT

BEGIN:VEVENT
UID:f93e9af3c2b913f8ddb44ace5165f9a4
PRIORITY:6
SUMMARY:nastrone mattino
URL:http://storage.radiospore.oziosi.org:2080/playlister.php?path=/data/nastrone/mattina||recursive:random
DTSTAMP:20260419T060000Z
DTSTART:20260419T060000Z
DTEND:20260419T115859Z
RRULE:FREQ=DAILY
END:VEVENT

BEGIN:VEVENT
UID:33f56ffc926c2988106cc19432592f9d
PRIORITY:2
SUMMARY:tekno
URL:/data/tekno
DTSTAMP:20260419T060000Z
DTSTART:20260419T060000Z
DTEND:20260419T072800Z
RRULE:FREQ=DAILY
END:VEVENT

BEGIN:VEVENT
UID:7a518371582fbef27db5091e674110ce
PRIORITY:2
SUMMARY:risveglio
URL:/data/risveglio
DTSTAMP:20260419T073000Z
DTSTART:20260419T073000Z
DTEND:20260419T075800Z
RRULE:FREQ=DAILY
END:VEVENT

BEGIN:VEVENT
UID:a225ca31ecd792a08ad0faf7f34be97f
PRIORITY:3
SUMMARY:remapuretu
URL:/data/remapuretu
DTSTAMP:20260419T080000Z
DTSTART:20260419T080000Z
DTEND:20260419T085800Z
RRULE:FREQ=DAILY
END:VEVENT

BEGIN:VEVENT
UID:9959b2c1d524e6680c357b528d7cd549
PRIORITY:2
SUMMARY:stranamente
URL:/data/stranamente
DTSTAMP:20260419T103000Z
DTSTART:20260419T103000Z
DTEND:20260419T105800Z
RRULE:FREQ=DAILY
END:VEVENT

BEGIN:VEVENT
UID:a4cb0c03243fc9b634b1f9a2b5836aea
PRIORITY:6
SUMMARY:nastrone pomeriggio
URL:http://storage.radiospore.oziosi.org:2080/playlister.php?path=/data/nastrone/pomeriggio||recursive|random||50,/data/jingle||recursive|random||2&global=interleave
DTSTAMP:20260419T115900Z
DTSTART:20260419T115900Z
DTEND:20260419T065959Z
RRULE:FREQ=DAILY
END:VEVENT

BEGIN:VEVENT
UID:47c40a1c1185b28410cbc8b491e6a20c
PRIORITY:2
SUMMARY:ponteradio
URL:https://s.streampunk.cc/wombat.ogg
DTSTAMP:20260419T010000Z
DTSTART:20260419T010000Z
DTEND:20260419T030000Z
RRULE:FREQ=WEEKLY
END:VEVENT

BEGIN:VEVENT
UID:2069d6800334d6212ce27e13d554e4b1
PRIORITY:2
SUMMARY:balene
URL:http://storage.radiospore.oziosi.org:2080/playlister.php?path=/data/balene/sigla||||1,/data/balene||recursive|random
DTSTAMP:20260419T050000Z
DTSTART:20260419T050000Z
DTEND:20260419T055800Z
RRULE:FREQ=WEEKLY
END:VEVENT

BEGIN:VEVENT
UID:5e01abdbaeb17e7c8365a47fe186a20f
PRIORITY:2
SUMMARY:balene
URL:http://storage.radiospore.oziosi.org:2080/playlister.php?path=/data/balene/sigla||||1,/data/balene||recursive|random
DTSTAMP:20260419T050000Z
DTSTART:20260419T050000Z
DTEND:20260419T055800Z
RRULE:FREQ=WEEKLY
END:VEVENT

BEGIN:VEVENT
UID:c045e93f43414620e6b4a711ec5aa2ae
PRIORITY:2
SUMMARY:tinala
URL:http://storage.radiospore.oziosi.org:2080/playlister.php?path=https://www.arkiwi.org/path64/cmFkaW9zcG9yZS9UaW5hbGE/html||||1,https://www.arkiwi.org/path64/cmFkaW9zcG9yZS9UaW5hbGE/html|||random|1&global=||1 


DTSTAMP:20260419T060000Z
DTSTART:20260419T060000Z
DTEND:20260419T070000Z
RRULE:FREQ=WEEKLY
END:VEVENT

BEGIN:VEVENT
UID:e72ebf06052381a83955783a98b35d52
PRIORITY:6
SUMMARY:nastrone sera
URL:http://storage.radiospore.oziosi.org:2080/playlister.php?path=/data/nastrone/sera||recursive|random||50,/data/jingle||recursive|random||2&global=interleave
DTSTAMP:20260419T070000Z
DTSTART:20260419T070000Z
DTEND:20260419T115959Z
RRULE:FREQ=DAILY
END:VEVENT

BEGIN:VEVENT
UID:c15268f6ceaea40cbde809a610d0ca5e
PRIORITY:2
SUMMARY:giocopulso
URL:/data/giocopulso
DTSTAMP:20260419T100000Z
DTSTART:20260419T100000Z
DTEND:20260419T102800Z
RRULE:FREQ=DAILY
END:VEVENT

BEGIN:VEVENT
UID:a30eae79931eb4979c5c85cfd3178854
PRIORITY:2
SUMMARY:svarielli
URL:http://storage.radiospore.oziosi.org:2080/playlister.php?path=/data/svarielli||recursive|random
DTSTAMP:20260419T103000Z
DTSTART:20260419T103000Z
DTEND:20260419T112800Z
RRULE:FREQ=DAILY
END:VEVENT

END:VCALENDAR
